BEGIN:VCALENDAR
VERSION:2.0
PRODID:-//Mon assistant bailleur 16 - ECPv6.15.20//NONSGML v1.0//EN
CALSCALE:GREGORIAN
METHOD:PUBLISH
X-WR-CALNAME:Mon assistant bailleur 16
X-ORIGINAL-URL:https://monassistantbailleur16.fr
X-WR-CALDESC:Évènements pour Mon assistant bailleur 16
REFRESH-INTERVAL;VALUE=DURATION:PT1H
X-Robots-Tag:noindex
X-PUBLISHED-TTL:PT1H
BEGIN:VTIMEZONE
TZID:Europe/Paris
BEGIN:DAYLIGHT
TZOFFSETFROM:+0100
TZOFFSETTO:+0200
TZNAME:CEST
DTSTART:20240331T010000
END:DAYLIGHT
BEGIN:STANDARD
TZOFFSETFROM:+0200
TZOFFSETTO:+0100
TZNAME:CET
DTSTART:20241027T010000
END:STANDARD
BEGIN:DAYLIGHT
TZOFFSETFROM:+0100
TZOFFSETTO:+0200
TZNAME:CEST
DTSTART:20250330T010000
END:DAYLIGHT
BEGIN:STANDARD
TZOFFSETFROM:+0200
TZOFFSETTO:+0100
TZNAME:CET
DTSTART:20251026T010000
END:STANDARD
BEGIN:DAYLIGHT
TZOFFSETFROM:+0100
TZOFFSETTO:+0200
TZNAME:CEST
DTSTART:20260329T010000
END:DAYLIGHT
BEGIN:STANDARD
TZOFFSETFROM:+0200
TZOFFSETTO:+0100
TZNAME:CET
DTSTART:20261025T010000
END:STANDARD
BEGIN:DAYLIGHT
TZOFFSETFROM:+0100
TZOFFSETTO:+0200
TZNAME:CEST
DTSTART:20270328T010000
END:DAYLIGHT
BEGIN:STANDARD
TZOFFSETFROM:+0200
TZOFFSETTO:+0100
TZNAME:CET
DTSTART:20271031T010000
END:STANDARD
END:VTIMEZONE
BEGIN:VEVENT
DTSTART;TZID=Europe/Paris:20260224T180000
DTEND;TZID=Europe/Paris:20260224T200000
DTSTAMP:20260421T145754
CREATED:20260212T134114Z
LAST-MODIFIED:20260319T075842Z
UID:15288-1771956000-1771963200@monassistantbailleur16.fr
SUMMARY:Journée de communication Bail Rénov – février
DESCRIPTION:Le prochain atelier BAIL RENOV se déroulera le 24 février 2026\, de 18 h à 20 h\, au château de Barbezieux. \nCommuniqué de presse : \n\n    \n        \n\n    \nCrédit photo : @Cdc4b \n   \n 
URL:https://monassistantbailleur16.fr/evenement/journee-de-communication-bail-renov-fevrier/
LOCATION:château de barbezieux\, Place de Verdun\, Barbezieux-Saint-Hilaire\, 16300\, France
END:VEVENT
BEGIN:VEVENT
DTSTART;TZID=Europe/Paris:20251215T180000
DTEND;TZID=Europe/Paris:20251215T200000
DTSTAMP:20260421T145754
CREATED:20251128T063707Z
LAST-MODIFIED:20251128T063707Z
UID:5713-1765821600-1765828800@monassistantbailleur16.fr
SUMMARY:Journée de communication Bail Rénov – décembre
DESCRIPTION:Le prochain atelier BAIL RENOV se déroulera le 15 décembre 2025\, de 18 h à 20 h\, à Ruffec dans la salle des mariages à la mairie.
URL:https://monassistantbailleur16.fr/evenement/journee-de-communication-bail-renov-decembre/
LOCATION:Mairie de Ruffec\, Pl. d'Armes\, Ruffec\, 16700\, France
END:VEVENT
BEGIN:VEVENT
DTSTART;TZID=Europe/Paris:20250918T180000
DTEND;TZID=Europe/Paris:20250918T200000
DTSTAMP:20260421T145754
CREATED:20250917T131208Z
LAST-MODIFIED:20250925T084057Z
UID:5707-1758218400-1758225600@monassistantbailleur16.fr
SUMMARY:Journée de communication Bail Rénov - septembre
DESCRIPTION:Le prochain atelier BAIL RENOV se déroulera le 18 Septembre 2025 de 18H à 20H au siège de la Communauté de Communes Lavalette Tude Drone.
URL:https://monassistantbailleur16.fr/evenement/journee-de-communication-bail-renov-septembre/
END:VEVENT
BEGIN:VEVENT
DTSTART;TZID=Europe/Paris:20250603T180000
DTEND;TZID=Europe/Paris:20250603T200000
DTSTAMP:20260421T145754
CREATED:20250526T130621Z
LAST-MODIFIED:20250917T132652Z
UID:5705-1748973600-1748980800@monassistantbailleur16.fr
SUMMARY:Journée de communication Bail Rénov - juin
DESCRIPTION:Le prochain atelier BAIL RENOV se déroulera le 3 Juin 2025 de 18H à 20H à la salle des Fêtes de Tourriers.
URL:https://monassistantbailleur16.fr/evenement/journee-de-communication-bail-renov-juin/
END:VEVENT
BEGIN:VEVENT
DTSTART;TZID=Europe/Paris:20250331T160000
DTEND;TZID=Europe/Paris:20250331T180000
DTSTAMP:20260421T145754
CREATED:20250218T091138Z
LAST-MODIFIED:20250218T091138Z
UID:5632-1743436800-1743444000@monassistantbailleur16.fr
SUMMARY:Journée de communication Bail Rénov - mars
DESCRIPTION:Le prochain atelier BAIL RENOV\, sur Angoulême et Grand Angoulême\, se déroulera le lundi 31 mars 2025 de 16 h à 18 h à l’espace CARAT.
URL:https://monassistantbailleur16.fr/evenement/journee-de-communication-bail-renov-mars/
LOCATION:Espace Carat\, 54 Av. Jean Mermoz\, L'Isle-d'Espagnac\, 16340\, France
ORGANIZER;CN="Christian CLOCHARD":MAILTO:contact16@bail-renov.fr
END:VEVENT
END:VCALENDAR